BEGIN:VCALENDAR
VERSION:2.0
PRODID:-//The Truth Church - ECPv6.15.14//NONSGML v1.0//EN
CALSCALE:GREGORIAN
METHOD:PUBLISH
X-WR-CALNAME:The Truth Church
X-ORIGINAL-URL:https://olathetruth.com
X-WR-CALDESC:Events for The Truth Church
REFRESH-INTERVAL;VALUE=DURATION:PT1H
X-Robots-Tag:noindex
X-PUBLISHED-TTL:PT1H
BEGIN:VTIMEZONE
TZID:America/Chicago
BEGIN:DAYLIGHT
TZOFFSETFROM:-0600
TZOFFSETTO:-0500
TZNAME:CDT
DTSTART:20230312T080000
END:DAYLIGHT
BEGIN:STANDARD
TZOFFSETFROM:-0500
TZOFFSETTO:-0600
TZNAME:CST
DTSTART:20231105T070000
END:STANDARD
BEGIN:DAYLIGHT
TZOFFSETFROM:-0600
TZOFFSETTO:-0500
TZNAME:CDT
DTSTART:20240310T080000
END:DAYLIGHT
BEGIN:STANDARD
TZOFFSETFROM:-0500
TZOFFSETTO:-0600
TZNAME:CST
DTSTART:20241103T070000
END:STANDARD
BEGIN:DAYLIGHT
TZOFFSETFROM:-0600
TZOFFSETTO:-0500
TZNAME:CDT
DTSTART:20250309T080000
END:DAYLIGHT
BEGIN:STANDARD
TZOFFSETFROM:-0500
TZOFFSETTO:-0600
TZNAME:CST
DTSTART:20251102T070000
END:STANDARD
END:VTIMEZONE
BEGIN:VEVENT
DTSTART;TZID=America/Chicago:20240801T190000
DTEND;TZID=America/Chicago:20240801T200000
DTSTAMP:20260425T065557
CREATED:20230224T141145Z
LAST-MODIFIED:20240624T185512Z
UID:14913-1722538800-1722542400@olathetruth.com
SUMMARY:Family Prayer
DESCRIPTION:
URL:https://olathetruth.com/event/family-prayer-171/
LOCATION:The Truth Church\, 11995 Monticello Ter\, Olathe\, KS\, United States
END:VEVENT
BEGIN:VEVENT
DTSTART;TZID=America/Chicago:20240804T100000
DTEND;TZID=America/Chicago:20240804T120000
DTSTAMP:20260425T065557
CREATED:20230227T144144Z
LAST-MODIFIED:20240624T185512Z
UID:14924-1722765600-1722772800@olathetruth.com
SUMMARY:Sunday School
DESCRIPTION:
URL:https://olathetruth.com/event/sunday-school-97/
LOCATION:The Truth Church\, 11995 Monticello Ter\, Olathe\, KS\, United States
END:VEVENT
BEGIN:VEVENT
DTSTART;TZID=America/Chicago:20240804T180000
DTEND;TZID=America/Chicago:20240804T200000
DTSTAMP:20260425T065557
CREATED:20230227T144145Z
LAST-MODIFIED:20240624T185513Z
UID:14925-1722794400-1722801600@olathetruth.com
SUMMARY:Sunday Evening Service
DESCRIPTION:
URL:https://olathetruth.com/event/sunday-evening-service-97/
LOCATION:The Truth Church\, 11995 Monticello Ter\, Olathe\, KS\, United States
END:VEVENT
BEGIN:VEVENT
DTSTART;TZID=America/Chicago:20240806T193000
DTEND;TZID=America/Chicago:20240806T210000
DTSTAMP:20260425T065557
CREATED:20230301T144302Z
LAST-MODIFIED:20240624T185513Z
UID:14931-1722972600-1722978000@olathetruth.com
SUMMARY:Bible Study
DESCRIPTION:
URL:https://olathetruth.com/event/bible-study-170/
LOCATION:The Truth Church\, 11995 Monticello Ter\, Olathe\, KS\, United States
END:VEVENT
BEGIN:VEVENT
DTSTART;TZID=America/Chicago:20240808T190000
DTEND;TZID=America/Chicago:20240808T200000
DTSTAMP:20260425T065557
CREATED:20230303T151351Z
LAST-MODIFIED:20240624T185513Z
UID:14934-1723143600-1723147200@olathetruth.com
SUMMARY:Family Prayer
DESCRIPTION:
URL:https://olathetruth.com/event/family-prayer-172/
LOCATION:The Truth Church\, 11995 Monticello Ter\, Olathe\, KS\, United States
END:VEVENT
BEGIN:VEVENT
DTSTART;TZID=America/Chicago:20240811T100000
DTEND;TZID=America/Chicago:20240811T120000
DTSTAMP:20260425T065557
CREATED:20230306T154502Z
LAST-MODIFIED:20240624T185513Z
UID:14942-1723370400-1723377600@olathetruth.com
SUMMARY:Sunday School
DESCRIPTION:
URL:https://olathetruth.com/event/sunday-school-98/
LOCATION:The Truth Church\, 11995 Monticello Ter\, Olathe\, KS\, United States
END:VEVENT
BEGIN:VEVENT
DTSTART;TZID=America/Chicago:20240811T180000
DTEND;TZID=America/Chicago:20240811T200000
DTSTAMP:20260425T065557
CREATED:20230306T154503Z
LAST-MODIFIED:20240624T185514Z
UID:14943-1723399200-1723406400@olathetruth.com
SUMMARY:Sunday Evening Service
DESCRIPTION:
URL:https://olathetruth.com/event/sunday-evening-service-98/
LOCATION:The Truth Church\, 11995 Monticello Ter\, Olathe\, KS\, United States
END:VEVENT
BEGIN:VEVENT
DTSTART;TZID=America/Chicago:20240813T193000
DTEND;TZID=America/Chicago:20240813T210000
DTSTAMP:20260425T065557
CREATED:20230308T161304Z
LAST-MODIFIED:20240624T185514Z
UID:14950-1723577400-1723582800@olathetruth.com
SUMMARY:Bible Study
DESCRIPTION:
URL:https://olathetruth.com/event/bible-study-171/
LOCATION:The Truth Church\, 11995 Monticello Ter\, Olathe\, KS\, United States
END:VEVENT
BEGIN:VEVENT
DTSTART;TZID=America/Chicago:20240815T190000
DTEND;TZID=America/Chicago:20240815T200000
DTSTAMP:20260425T065557
CREATED:20230310T162808Z
LAST-MODIFIED:20240624T185514Z
UID:14954-1723748400-1723752000@olathetruth.com
SUMMARY:Family Prayer
DESCRIPTION:
URL:https://olathetruth.com/event/family-prayer-173/
LOCATION:The Truth Church\, 11995 Monticello Ter\, Olathe\, KS\, United States
END:VEVENT
BEGIN:VEVENT
DTSTART;TZID=America/Chicago:20240818T100000
DTEND;TZID=America/Chicago:20240818T120000
DTSTAMP:20260425T065557
CREATED:20230313T171309Z
LAST-MODIFIED:20240624T185520Z
UID:14963-1723975200-1723982400@olathetruth.com
SUMMARY:Sunday School
DESCRIPTION:
URL:https://olathetruth.com/event/sunday-school-99/
LOCATION:The Truth Church\, 11995 Monticello Ter\, Olathe\, KS\, United States
END:VEVENT
BEGIN:VEVENT
DTSTART;TZID=America/Chicago:20240818T180000
DTEND;TZID=America/Chicago:20240818T200000
DTSTAMP:20260425T065557
CREATED:20230313T171309Z
LAST-MODIFIED:20240624T185521Z
UID:14964-1724004000-1724011200@olathetruth.com
SUMMARY:Sunday Evening Service
DESCRIPTION:
URL:https://olathetruth.com/event/sunday-evening-service-99/
LOCATION:The Truth Church\, 11995 Monticello Ter\, Olathe\, KS\, United States
END:VEVENT
BEGIN:VEVENT
DTSTART;TZID=America/Chicago:20240820T193000
DTEND;TZID=America/Chicago:20240820T210000
DTSTAMP:20260425T065557
CREATED:20230315T174252Z
LAST-MODIFIED:20240624T185521Z
UID:14968-1724182200-1724187600@olathetruth.com
SUMMARY:Bible Study
DESCRIPTION:
URL:https://olathetruth.com/event/bible-study-172/
LOCATION:The Truth Church\, 11995 Monticello Ter\, Olathe\, KS\, United States
END:VEVENT
BEGIN:VEVENT
DTSTART;TZID=America/Chicago:20240822T190000
DTEND;TZID=America/Chicago:20240822T200000
DTSTAMP:20260425T065557
CREATED:20230317T183023Z
LAST-MODIFIED:20240624T185521Z
UID:14971-1724353200-1724356800@olathetruth.com
SUMMARY:Family Prayer
DESCRIPTION:
URL:https://olathetruth.com/event/family-prayer-174/
LOCATION:The Truth Church\, 11995 Monticello Ter\, Olathe\, KS\, United States
END:VEVENT
BEGIN:VEVENT
DTSTART;TZID=America/Chicago:20240825T100000
DTEND;TZID=America/Chicago:20240825T120000
DTSTAMP:20260425T065557
CREATED:20230319T191318Z
LAST-MODIFIED:20240624T185522Z
UID:14977-1724580000-1724587200@olathetruth.com
SUMMARY:Sunday School
DESCRIPTION:
URL:https://olathetruth.com/event/sunday-school-100/
LOCATION:The Truth Church\, 11995 Monticello Ter\, Olathe\, KS\, United States
END:VEVENT
BEGIN:VEVENT
DTSTART;TZID=America/Chicago:20240825T180000
DTEND;TZID=America/Chicago:20240825T200000
DTSTAMP:20260425T065557
CREATED:20230320T192845Z
LAST-MODIFIED:20240624T185522Z
UID:14981-1724608800-1724616000@olathetruth.com
SUMMARY:Sunday Evening Service
DESCRIPTION:
URL:https://olathetruth.com/event/sunday-evening-service-100/
LOCATION:The Truth Church\, 11995 Monticello Ter\, Olathe\, KS\, United States
END:VEVENT
BEGIN:VEVENT
DTSTART;TZID=America/Chicago:20240827T193000
DTEND;TZID=America/Chicago:20240827T210000
DTSTAMP:20260425T065557
CREATED:20230322T200032Z
LAST-MODIFIED:20240624T185522Z
UID:14985-1724787000-1724792400@olathetruth.com
SUMMARY:Bible Study
DESCRIPTION:
URL:https://olathetruth.com/event/bible-study-173/
LOCATION:The Truth Church\, 11995 Monticello Ter\, Olathe\, KS\, United States
END:VEVENT
BEGIN:VEVENT
DTSTART;TZID=America/Chicago:20240829T190000
DTEND;TZID=America/Chicago:20240829T200000
DTSTAMP:20260425T065557
CREATED:20230324T203005Z
LAST-MODIFIED:20240624T185522Z
UID:14988-1724958000-1724961600@olathetruth.com
SUMMARY:Family Prayer
DESCRIPTION:
URL:https://olathetruth.com/event/family-prayer-175/
LOCATION:The Truth Church\, 11995 Monticello Ter\, Olathe\, KS\, United States
END:VEVENT
END:VCALENDAR