BEGIN:VCALENDAR
VERSION:2.0
PRODID:-//The Truth Church - ECPv6.15.14//NONSGML v1.0//EN
CALSCALE:GREGORIAN
METHOD:PUBLISH
X-WR-CALNAME:The Truth Church
X-ORIGINAL-URL:https://olathetruth.com
X-WR-CALDESC:Events for The Truth Church
REFRESH-INTERVAL;VALUE=DURATION:PT1H
X-Robots-Tag:noindex
X-PUBLISHED-TTL:PT1H
BEGIN:VTIMEZONE
TZID:America/Chicago
BEGIN:DAYLIGHT
TZOFFSETFROM:-0600
TZOFFSETTO:-0500
TZNAME:CDT
DTSTART:20230312T080000
END:DAYLIGHT
BEGIN:STANDARD
TZOFFSETFROM:-0500
TZOFFSETTO:-0600
TZNAME:CST
DTSTART:20231105T070000
END:STANDARD
BEGIN:DAYLIGHT
TZOFFSETFROM:-0600
TZOFFSETTO:-0500
TZNAME:CDT
DTSTART:20240310T080000
END:DAYLIGHT
BEGIN:STANDARD
TZOFFSETFROM:-0500
TZOFFSETTO:-0600
TZNAME:CST
DTSTART:20241103T070000
END:STANDARD
BEGIN:DAYLIGHT
TZOFFSETFROM:-0600
TZOFFSETTO:-0500
TZNAME:CDT
DTSTART:20250309T080000
END:DAYLIGHT
BEGIN:STANDARD
TZOFFSETFROM:-0500
TZOFFSETTO:-0600
TZNAME:CST
DTSTART:20251102T070000
END:STANDARD
END:VTIMEZONE
BEGIN:VEVENT
DTSTART;TZID=America/Chicago:20240702T193000
DTEND;TZID=America/Chicago:20240702T210000
DTSTAMP:20260425T095231
CREATED:20230127T081018Z
LAST-MODIFIED:20240624T185508Z
UID:14844-1719948600-1719954000@olathetruth.com
SUMMARY:Bible Study
DESCRIPTION:
URL:https://olathetruth.com/event/bible-study-165/
LOCATION:The Truth Church\, 11995 Monticello Ter\, Olathe\, KS\, United States
END:VEVENT
BEGIN:VEVENT
DTSTART;TZID=America/Chicago:20240704T190000
DTEND;TZID=America/Chicago:20240704T200000
DTSTAMP:20260425T095231
CREATED:20230130T090037Z
LAST-MODIFIED:20240624T185509Z
UID:14852-1720119600-1720123200@olathetruth.com
SUMMARY:Family Prayer
DESCRIPTION:
URL:https://olathetruth.com/event/family-prayer-167/
LOCATION:The Truth Church\, 11995 Monticello Ter\, Olathe\, KS\, United States
END:VEVENT
BEGIN:VEVENT
DTSTART;TZID=America/Chicago:20240707T100000
DTEND;TZID=America/Chicago:20240707T120000
DTSTAMP:20260425T095231
CREATED:20230130T090037Z
LAST-MODIFIED:20240624T185509Z
UID:14853-1720346400-1720353600@olathetruth.com
SUMMARY:Sunday School
DESCRIPTION:
URL:https://olathetruth.com/event/sunday-school-93/
LOCATION:The Truth Church\, 11995 Monticello Ter\, Olathe\, KS\, United States
END:VEVENT
BEGIN:VEVENT
DTSTART;TZID=America/Chicago:20240707T180000
DTEND;TZID=America/Chicago:20240707T200000
DTSTAMP:20260425T095231
CREATED:20230201T092814Z
LAST-MODIFIED:20240624T185509Z
UID:14858-1720375200-1720382400@olathetruth.com
SUMMARY:Sunday Evening Service
DESCRIPTION:
URL:https://olathetruth.com/event/sunday-evening-service-93/
LOCATION:The Truth Church\, 11995 Monticello Ter\, Olathe\, KS\, United States
END:VEVENT
BEGIN:VEVENT
DTSTART;TZID=America/Chicago:20240709T193000
DTEND;TZID=America/Chicago:20240709T210000
DTSTAMP:20260425T095231
CREATED:20230203T094441Z
LAST-MODIFIED:20240624T185509Z
UID:14861-1720553400-1720558800@olathetruth.com
SUMMARY:Bible Study
DESCRIPTION:
URL:https://olathetruth.com/event/bible-study-166/
LOCATION:The Truth Church\, 11995 Monticello Ter\, Olathe\, KS\, United States
END:VEVENT
BEGIN:VEVENT
DTSTART;TZID=America/Chicago:20240711T190000
DTEND;TZID=America/Chicago:20240711T200000
DTSTAMP:20260425T095231
CREATED:20230204T095726Z
LAST-MODIFIED:20240624T185509Z
UID:14863-1720724400-1720728000@olathetruth.com
SUMMARY:Family Prayer
DESCRIPTION:
URL:https://olathetruth.com/event/family-prayer-168/
LOCATION:The Truth Church\, 11995 Monticello Ter\, Olathe\, KS\, United States
END:VEVENT
BEGIN:VEVENT
DTSTART;TZID=America/Chicago:20240714T100000
DTEND;TZID=America/Chicago:20240714T120000
DTSTAMP:20260425T095231
CREATED:20230206T101617Z
LAST-MODIFIED:20240624T185510Z
UID:14869-1720951200-1720958400@olathetruth.com
SUMMARY:Sunday School
DESCRIPTION:
URL:https://olathetruth.com/event/sunday-school-94/
LOCATION:The Truth Church\, 11995 Monticello Ter\, Olathe\, KS\, United States
END:VEVENT
BEGIN:VEVENT
DTSTART;TZID=America/Chicago:20240714T180000
DTEND;TZID=America/Chicago:20240714T200000
DTSTAMP:20260425T095231
CREATED:20230206T101618Z
LAST-MODIFIED:20240624T185510Z
UID:14870-1720980000-1720987200@olathetruth.com
SUMMARY:Sunday Evening Service
DESCRIPTION:
URL:https://olathetruth.com/event/sunday-evening-service-94/
LOCATION:The Truth Church\, 11995 Monticello Ter\, Olathe\, KS\, United States
END:VEVENT
BEGIN:VEVENT
DTSTART;TZID=America/Chicago:20240716T193000
DTEND;TZID=America/Chicago:20240716T210000
DTSTAMP:20260425T095231
CREATED:20230208T104242Z
LAST-MODIFIED:20240624T185510Z
UID:14875-1721158200-1721163600@olathetruth.com
SUMMARY:Bible Study
DESCRIPTION:
URL:https://olathetruth.com/event/bible-study-167/
LOCATION:The Truth Church\, 11995 Monticello Ter\, Olathe\, KS\, United States
END:VEVENT
BEGIN:VEVENT
DTSTART;TZID=America/Chicago:20240718T190000
DTEND;TZID=America/Chicago:20240718T200000
DTSTAMP:20260425T095231
CREATED:20230210T110017Z
LAST-MODIFIED:20240624T185510Z
UID:14878-1721329200-1721332800@olathetruth.com
SUMMARY:Family Prayer
DESCRIPTION:
URL:https://olathetruth.com/event/family-prayer-169/
LOCATION:The Truth Church\, 11995 Monticello Ter\, Olathe\, KS\, United States
END:VEVENT
BEGIN:VEVENT
DTSTART;TZID=America/Chicago:20240721T100000
DTEND;TZID=America/Chicago:20240721T120000
DTSTAMP:20260425T095231
CREATED:20230213T114337Z
LAST-MODIFIED:20240624T185511Z
UID:14886-1721556000-1721563200@olathetruth.com
SUMMARY:Sunday School
DESCRIPTION:
URL:https://olathetruth.com/event/sunday-school-95/
LOCATION:The Truth Church\, 11995 Monticello Ter\, Olathe\, KS\, United States
END:VEVENT
BEGIN:VEVENT
DTSTART;TZID=America/Chicago:20240721T180000
DTEND;TZID=America/Chicago:20240721T200000
DTSTAMP:20260425T095231
CREATED:20230213T114337Z
LAST-MODIFIED:20240624T185511Z
UID:14887-1721584800-1721592000@olathetruth.com
SUMMARY:Sunday Evening Service
DESCRIPTION:
URL:https://olathetruth.com/event/sunday-evening-service-95/
LOCATION:The Truth Church\, 11995 Monticello Ter\, Olathe\, KS\, United States
END:VEVENT
BEGIN:VEVENT
DTSTART;TZID=America/Chicago:20240723T193000
DTEND;TZID=America/Chicago:20240723T210000
DTSTAMP:20260425T095231
CREATED:20230215T121223Z
LAST-MODIFIED:20240624T185511Z
UID:14890-1721763000-1721768400@olathetruth.com
SUMMARY:Bible Study
DESCRIPTION:
URL:https://olathetruth.com/event/bible-study-168/
LOCATION:The Truth Church\, 11995 Monticello Ter\, Olathe\, KS\, United States
END:VEVENT
BEGIN:VEVENT
DTSTART;TZID=America/Chicago:20240725T190000
DTEND;TZID=America/Chicago:20240725T200000
DTSTAMP:20260425T095231
CREATED:20230217T124423Z
LAST-MODIFIED:20240624T185511Z
UID:14896-1721934000-1721937600@olathetruth.com
SUMMARY:Family Prayer
DESCRIPTION:
URL:https://olathetruth.com/event/family-prayer-170/
LOCATION:The Truth Church\, 11995 Monticello Ter\, Olathe\, KS\, United States
END:VEVENT
BEGIN:VEVENT
DTSTART;TZID=America/Chicago:20240728T100000
DTEND;TZID=America/Chicago:20240728T120000
DTSTAMP:20260425T095231
CREATED:20230220T125613Z
LAST-MODIFIED:20240624T185512Z
UID:14902-1722160800-1722168000@olathetruth.com
SUMMARY:Sunday School
DESCRIPTION:
URL:https://olathetruth.com/event/sunday-school-96/
LOCATION:The Truth Church\, 11995 Monticello Ter\, Olathe\, KS\, United States
END:VEVENT
BEGIN:VEVENT
DTSTART;TZID=America/Chicago:20240728T180000
DTEND;TZID=America/Chicago:20240728T200000
DTSTAMP:20260425T095231
CREATED:20230220T125613Z
LAST-MODIFIED:20240624T185512Z
UID:14903-1722189600-1722196800@olathetruth.com
SUMMARY:Sunday Evening Service
DESCRIPTION:
URL:https://olathetruth.com/event/sunday-evening-service-96/
LOCATION:The Truth Church\, 11995 Monticello Ter\, Olathe\, KS\, United States
END:VEVENT
BEGIN:VEVENT
DTSTART;TZID=America/Chicago:20240730T193000
DTEND;TZID=America/Chicago:20240730T210000
DTSTAMP:20260425T095231
CREATED:20230222T132811Z
LAST-MODIFIED:20240624T185512Z
UID:14910-1722367800-1722373200@olathetruth.com
SUMMARY:Bible Study
DESCRIPTION:
URL:https://olathetruth.com/event/bible-study-169/
LOCATION:The Truth Church\, 11995 Monticello Ter\, Olathe\, KS\, United States
END:VEVENT
END:VCALENDAR