BEGIN:VCALENDAR
VERSION:2.0
PRODID:-//The Truth Church - ECPv6.15.14//NONSGML v1.0//EN
CALSCALE:GREGORIAN
METHOD:PUBLISH
X-WR-CALNAME:The Truth Church
X-ORIGINAL-URL:https://olathetruth.com
X-WR-CALDESC:Events for The Truth Church
REFRESH-INTERVAL;VALUE=DURATION:PT1H
X-Robots-Tag:noindex
X-PUBLISHED-TTL:PT1H
BEGIN:VTIMEZONE
TZID:America/Chicago
BEGIN:DAYLIGHT
TZOFFSETFROM:-0600
TZOFFSETTO:-0500
TZNAME:CDT
DTSTART:20230312T080000
END:DAYLIGHT
BEGIN:STANDARD
TZOFFSETFROM:-0500
TZOFFSETTO:-0600
TZNAME:CST
DTSTART:20231105T070000
END:STANDARD
BEGIN:DAYLIGHT
TZOFFSETFROM:-0600
TZOFFSETTO:-0500
TZNAME:CDT
DTSTART:20240310T080000
END:DAYLIGHT
BEGIN:STANDARD
TZOFFSETFROM:-0500
TZOFFSETTO:-0600
TZNAME:CST
DTSTART:20241103T070000
END:STANDARD
BEGIN:DAYLIGHT
TZOFFSETFROM:-0600
TZOFFSETTO:-0500
TZNAME:CDT
DTSTART:20250309T080000
END:DAYLIGHT
BEGIN:STANDARD
TZOFFSETFROM:-0500
TZOFFSETTO:-0600
TZNAME:CST
DTSTART:20251102T070000
END:STANDARD
END:VTIMEZONE
BEGIN:VEVENT
DTSTART;TZID=America/Chicago:20240502T190000
DTEND;TZID=America/Chicago:20240502T200000
DTSTAMP:20260425T143301
CREATED:20221129T003921Z
LAST-MODIFIED:20240502T012906Z
UID:14723-1714676400-1714680000@olathetruth.com
SUMMARY:Family Prayer
DESCRIPTION:
URL:https://olathetruth.com/event/family-prayer-158/
LOCATION:The Truth Church\, 11995 Monticello Terrace\, Olathe\, KS 66061\, USA
END:VEVENT
BEGIN:VEVENT
DTSTART;TZID=America/Chicago:20240505T100000
DTEND;TZID=America/Chicago:20240505T120000
DTSTAMP:20260425T143301
CREATED:20221129T003921Z
LAST-MODIFIED:20240505T020924Z
UID:14724-1714903200-1714910400@olathetruth.com
SUMMARY:Sunday School
DESCRIPTION:
URL:https://olathetruth.com/event/sunday-school-84/
LOCATION:The Truth Church\, 11995 Monticello Terrace\, Olathe\, KS 66061\, USA
END:VEVENT
BEGIN:VEVENT
DTSTART;TZID=America/Chicago:20240505T180000
DTEND;TZID=America/Chicago:20240505T200000
DTSTAMP:20260425T143301
CREATED:20221201T010539Z
LAST-MODIFIED:20240505T020924Z
UID:14728-1714932000-1714939200@olathetruth.com
SUMMARY:Sunday Evening Service
DESCRIPTION:
URL:https://olathetruth.com/event/sunday-evening-service-84/
LOCATION:The Truth Church\, 11995 Monticello Terrace\, Olathe\, KS 66061\, USA
END:VEVENT
BEGIN:VEVENT
DTSTART;TZID=America/Chicago:20240507T193000
DTEND;TZID=America/Chicago:20240507T210000
DTSTAMP:20260425T143301
CREATED:20221203T013542Z
LAST-MODIFIED:20240507T022904Z
UID:14732-1715110200-1715115600@olathetruth.com
SUMMARY:Bible Study
DESCRIPTION:
URL:https://olathetruth.com/event/bible-study-157/
LOCATION:The Truth Church\, 11995 Monticello Terrace\, Olathe\, KS 66061\, USA
END:VEVENT
BEGIN:VEVENT
DTSTART;TZID=America/Chicago:20240509T190000
DTEND;TZID=America/Chicago:20240509T200000
DTSTAMP:20260425T143301
CREATED:20221206T022454Z
LAST-MODIFIED:20240509T025534Z
UID:14739-1715281200-1715284800@olathetruth.com
SUMMARY:Family Prayer
DESCRIPTION:
URL:https://olathetruth.com/event/family-prayer-159/
LOCATION:The Truth Church\, 11995 Monticello Terrace\, Olathe\, KS 66061\, USA
END:VEVENT
BEGIN:VEVENT
DTSTART;TZID=America/Chicago:20240512T100000
DTEND;TZID=America/Chicago:20240512T120000
DTSTAMP:20260425T143301
CREATED:20221206T022454Z
LAST-MODIFIED:20240512T034307Z
UID:14740-1715508000-1715515200@olathetruth.com
SUMMARY:Sunday School
DESCRIPTION:
URL:https://olathetruth.com/event/sunday-school-85/
LOCATION:The Truth Church\, 11995 Monticello Terrace\, Olathe\, KS 66061\, USA
END:VEVENT
BEGIN:VEVENT
DTSTART;TZID=America/Chicago:20240512T180000
DTEND;TZID=America/Chicago:20240512T200000
DTSTAMP:20260425T143301
CREATED:20221208T030559Z
LAST-MODIFIED:20240512T034308Z
UID:14749-1715536800-1715544000@olathetruth.com
SUMMARY:Sunday Evening Service
DESCRIPTION:
URL:https://olathetruth.com/event/sunday-evening-service-85/
LOCATION:The Truth Church\, 11995 Monticello Terrace\, Olathe\, KS 66061\, USA
END:VEVENT
BEGIN:VEVENT
DTSTART;TZID=America/Chicago:20240514T193000
DTEND;TZID=America/Chicago:20240514T210000
DTSTAMP:20260425T143301
CREATED:20221216T060144Z
LAST-MODIFIED:20240514T040903Z
UID:14755-1715715000-1715720400@olathetruth.com
SUMMARY:Bible Study
DESCRIPTION:
URL:https://olathetruth.com/event/bible-study-158/
LOCATION:The Truth Church\, 11995 Monticello Terrace\, Olathe\, KS 66061\, USA
END:VEVENT
BEGIN:VEVENT
DTSTART;TZID=America/Chicago:20240516T190000
DTEND;TZID=America/Chicago:20240516T200000
DTSTAMP:20260425T143301
CREATED:20221216T060144Z
LAST-MODIFIED:20240516T042905Z
UID:14756-1715886000-1715889600@olathetruth.com
SUMMARY:Family Prayer
DESCRIPTION:
URL:https://olathetruth.com/event/family-prayer-160/
LOCATION:The Truth Church\, 11995 Monticello Terrace\, Olathe\, KS 66061\, USA
END:VEVENT
BEGIN:VEVENT
DTSTART;TZID=America/Chicago:20240519T100000
DTEND;TZID=America/Chicago:20240519T120000
DTSTAMP:20260425T143301
CREATED:20221216T060145Z
LAST-MODIFIED:20240519T051214Z
UID:14757-1716112800-1716120000@olathetruth.com
SUMMARY:Sunday School
DESCRIPTION:
URL:https://olathetruth.com/event/sunday-school-86/
LOCATION:The Truth Church\, 11995 Monticello Terrace\, Olathe\, KS 66061\, USA
END:VEVENT
BEGIN:VEVENT
DTSTART;TZID=America/Chicago:20240519T180000
DTEND;TZID=America/Chicago:20240519T200000
DTSTAMP:20260425T143301
CREATED:20221216T060145Z
LAST-MODIFIED:20240519T051214Z
UID:14758-1716141600-1716148800@olathetruth.com
SUMMARY:Sunday Evening Service
DESCRIPTION:
URL:https://olathetruth.com/event/sunday-evening-service-86/
LOCATION:The Truth Church\, 11995 Monticello Terrace\, Olathe\, KS 66061\, USA
END:VEVENT
BEGIN:VEVENT
DTSTART;TZID=America/Chicago:20240521T193000
DTEND;TZID=America/Chicago:20240521T210000
DTSTAMP:20260425T143301
CREATED:20221216T060145Z
LAST-MODIFIED:20240521T054209Z
UID:14759-1716319800-1716325200@olathetruth.com
SUMMARY:Bible Study
DESCRIPTION:
URL:https://olathetruth.com/event/bible-study-159/
LOCATION:The Truth Church\, 11995 Monticello Terrace\, Olathe\, KS 66061\, USA
END:VEVENT
BEGIN:VEVENT
DTSTART;TZID=America/Chicago:20240523T190000
DTEND;TZID=America/Chicago:20240523T200000
DTSTAMP:20260425T143301
CREATED:20221230T163317Z
LAST-MODIFIED:20240523T055832Z
UID:14768-1716490800-1716494400@olathetruth.com
SUMMARY:Family Prayer
DESCRIPTION:
URL:https://olathetruth.com/event/family-prayer-161/
LOCATION:The Truth Church\, 11995 Monticello Terrace\, Olathe\, KS 66061\, USA
END:VEVENT
BEGIN:VEVENT
DTSTART;TZID=America/Chicago:20240526T100000
DTEND;TZID=America/Chicago:20240526T120000
DTSTAMP:20260425T143301
CREATED:20221230T163317Z
LAST-MODIFIED:20240526T062937Z
UID:14769-1716717600-1716724800@olathetruth.com
SUMMARY:Sunday School
DESCRIPTION:
URL:https://olathetruth.com/event/sunday-school-87/
LOCATION:The Truth Church\, 11995 Monticello Terrace\, Olathe\, KS 66061\, USA
END:VEVENT
BEGIN:VEVENT
DTSTART;TZID=America/Chicago:20240526T180000
DTEND;TZID=America/Chicago:20240526T200000
DTSTAMP:20260425T143301
CREATED:20221230T163318Z
LAST-MODIFIED:20240526T062937Z
UID:14770-1716746400-1716753600@olathetruth.com
SUMMARY:Sunday Evening Service
DESCRIPTION:
URL:https://olathetruth.com/event/sunday-evening-service-87/
LOCATION:The Truth Church\, 11995 Monticello Terrace\, Olathe\, KS 66061\, USA
END:VEVENT
BEGIN:VEVENT
DTSTART;TZID=America/Chicago:20240528T193000
DTEND;TZID=America/Chicago:20240528T210000
DTSTAMP:20260425T143301
CREATED:20221230T163318Z
LAST-MODIFIED:20240528T065927Z
UID:14771-1716924600-1716930000@olathetruth.com
SUMMARY:Bible Study
DESCRIPTION:
URL:https://olathetruth.com/event/bible-study-160/
LOCATION:The Truth Church\, 11995 Monticello Terrace\, Olathe\, KS 66061\, USA
END:VEVENT
BEGIN:VEVENT
DTSTART;TZID=America/Chicago:20240530T190000
DTEND;TZID=America/Chicago:20240530T200000
DTSTAMP:20260425T143301
CREATED:20221230T163318Z
LAST-MODIFIED:20240530T072338Z
UID:14772-1717095600-1717099200@olathetruth.com
SUMMARY:Family Prayer
DESCRIPTION:
URL:https://olathetruth.com/event/family-prayer-162/
LOCATION:The Truth Church\, 11995 Monticello Terrace\, Olathe\, KS 66061\, USA
END:VEVENT
END:VCALENDAR